BEGIN:VCALENDAR
VERSION:2.0
PRODID:-//New Mexico Leather League - ECPv6.15.20//NONSGML v1.0//EN
CALSCALE:GREGORIAN
METHOD:PUBLISH
X-WR-CALNAME:New Mexico Leather League
X-ORIGINAL-URL:https://nmleatherleague.com
X-WR-CALDESC:Events for New Mexico Leather League
REFRESH-INTERVAL;VALUE=DURATION:PT1H
X-Robots-Tag:noindex
X-PUBLISHED-TTL:PT1H
BEGIN:VTIMEZONE
TZID:America/Denver
BEGIN:DAYLIGHT
TZOFFSETFROM:-0700
TZOFFSETTO:-0600
TZNAME:MDT
DTSTART:20240310T090000
END:DAYLIGHT
BEGIN:STANDARD
TZOFFSETFROM:-0600
TZOFFSETTO:-0700
TZNAME:MST
DTSTART:20241103T080000
END:STANDARD
BEGIN:DAYLIGHT
TZOFFSETFROM:-0700
TZOFFSETTO:-0600
TZNAME:MDT
DTSTART:20250309T090000
END:DAYLIGHT
BEGIN:STANDARD
TZOFFSETFROM:-0600
TZOFFSETTO:-0700
TZNAME:MST
DTSTART:20251102T080000
END:STANDARD
BEGIN:DAYLIGHT
TZOFFSETFROM:-0700
TZOFFSETTO:-0600
TZNAME:MDT
DTSTART:20260308T090000
END:DAYLIGHT
BEGIN:STANDARD
TZOFFSETFROM:-0600
TZOFFSETTO:-0700
TZNAME:MST
DTSTART:20261101T080000
END:STANDARD
END:VTIMEZONE
BEGIN:VEVENT
DTSTART;TZID=America/Denver:20251211T190000
DTEND;TZID=America/Denver:20251211T203000
DTSTAMP:20260423T161913
CREATED:20250509T185941Z
LAST-MODIFIED:20250509T185941Z
UID:14376-1765479600-1765485000@nmleatherleague.com
SUMMARY:December General Meeting
DESCRIPTION:Help us get down to the business of running the organization. The team creates\, plans\, organizes and steps up to do the work that gets events rolling. It takes a kinky village! If you’d like to pitch in please join us.  Meeting via Zoom. \nZoom Link\nMeeting ID: 620 256 2854\nPasscode: 695050 \nYou don’t need to be a member of NMLL to attend general meetings. You just need to be willing to lend a hand. You DO need to be a member in order to vote.
URL:https://nmleatherleague.com/event/december-general-meeting/
LOCATION:Virtual
ORGANIZER;CN="NMLL":MAILTO:nmllevents@gmail.com
END:VEVENT
BEGIN:VEVENT
DTSTART;TZID=America/Denver:20251225T183000
DTEND;TZID=America/Denver:20251225T203000
DTSTAMP:20260423T161913
CREATED:20250509T193128Z
LAST-MODIFIED:20250509T193128Z
UID:14388-1766687400-1766694600@nmleatherleague.com
SUMMARY:No Munch in December!
DESCRIPTION:NO munch in December! Join us next month!
URL:https://nmleatherleague.com/event/no-munch-in-december-2/
END:VEVENT
END:VCALENDAR