BEGIN:VCALENDAR
VERSION:2.0
PRODID:-//New Mexico Leather League - ECPv6.15.20//NONSGML v1.0//EN
CALSCALE:GREGORIAN
METHOD:PUBLISH
X-WR-CALNAME:New Mexico Leather League
X-ORIGINAL-URL:https://nmleatherleague.com
X-WR-CALDESC:Events for New Mexico Leather League
REFRESH-INTERVAL;VALUE=DURATION:PT1H
X-Robots-Tag:noindex
X-PUBLISHED-TTL:PT1H
BEGIN:VTIMEZONE
TZID:America/Denver
BEGIN:DAYLIGHT
TZOFFSETFROM:-0700
TZOFFSETTO:-0600
TZNAME:MDT
DTSTART:20240310T090000
END:DAYLIGHT
BEGIN:STANDARD
TZOFFSETFROM:-0600
TZOFFSETTO:-0700
TZNAME:MST
DTSTART:20241103T080000
END:STANDARD
BEGIN:DAYLIGHT
TZOFFSETFROM:-0700
TZOFFSETTO:-0600
TZNAME:MDT
DTSTART:20250309T090000
END:DAYLIGHT
BEGIN:STANDARD
TZOFFSETFROM:-0600
TZOFFSETTO:-0700
TZNAME:MST
DTSTART:20251102T080000
END:STANDARD
BEGIN:DAYLIGHT
TZOFFSETFROM:-0700
TZOFFSETTO:-0600
TZNAME:MDT
DTSTART:20260308T090000
END:DAYLIGHT
BEGIN:STANDARD
TZOFFSETFROM:-0600
TZOFFSETTO:-0700
TZNAME:MST
DTSTART:20261101T080000
END:STANDARD
END:VTIMEZONE
BEGIN:VEVENT
DTSTART;TZID=America/Denver:20251031T150000
DTEND;TZID=America/Denver:20251031T210000
DTSTAMP:20260424T004845
CREATED:20250829T051816Z
LAST-MODIFIED:20250930T044258Z
UID:15226-1761922800-1761944400@nmleatherleague.com
SUMMARY:Vendor Room Open
DESCRIPTION:Come find that something you can’t live without in our Vendor Room! 
URL:https://nmleatherleague.com/event/vendor-room-open/
LOCATION:Vendor Room (Nv\, Tx\, Co Rooms)
CATEGORIES:Leather Fiesta 2025
ORGANIZER;CN="NMLL":MAILTO:nmllevents@gmail.com
END:VEVENT
BEGIN:VEVENT
DTSTART;TZID=America/Denver:20251031T150000
DTEND;TZID=America/Denver:20251031T210000
DTSTAMP:20260424T004845
CREATED:20250829T051401Z
LAST-MODIFIED:20250829T051401Z
UID:15222-1761922800-1761944400@nmleatherleague.com
SUMMARY:Registration Open
DESCRIPTION:Open registration for all conference attendees. \n\nYou are purchasing a membership to the weekend event with your event fee.\nLegal names are required for registration.  Name on registration must match name on government issued ID card presented at event check in.\nThis is an 18+ event.  You must be 18 years old by Friday\, October 31\, 2025 in order to attend.\nAll event check-ins (and at-the-door ticket sales if available) must be completed before registration closes on the day of the event. Registration closes promptly at 9 PM on Friday and Saturday. No late registrations will be processed and no late tickets will be sold. Please plan to arrive well before registration closes to ensure your entry to the evening festivities.\nEach person attending Leather Fiesta must sign event paperwork before entering the event:\n Waiver\, Release of Liability\, and Assumption of Risks\n Code of Conduct\nDungeon Rules
URL:https://nmleatherleague.com/event/registration-open/
LOCATION:Promenade
CATEGORIES:Leather Fiesta 2025
ORGANIZER;CN="NMLL":MAILTO:nmllevents@gmail.com
END:VEVENT
BEGIN:VEVENT
DTSTART;TZID=America/Denver:20251031T140000
DTEND;TZID=America/Denver:20251031T150000
DTSTAMP:20260424T004845
CREATED:20250829T050901Z
LAST-MODIFIED:20250829T051443Z
UID:15219-1761919200-1761922800@nmleatherleague.com
SUMMARY:Registration for Volunteers\, Vendors and Presenters
DESCRIPTION:This hour is set aside to give volunteers\, vendors and presenters a chance to register before the conference officially opens.
URL:https://nmleatherleague.com/event/open-registration-for-volunteers-vendors-and-presenters/
LOCATION:Promenade
ORGANIZER;CN="NMLL":MAILTO:nmllevents@gmail.com
END:VEVENT
BEGIN:VEVENT
DTSTART;TZID=America/Denver:20251023T180000
DTEND;TZID=America/Denver:20251023T203000
DTSTAMP:20260424T004845
CREATED:20250509T190416Z
LAST-MODIFIED:20250509T190416Z
UID:14380-1761242400-1761251400@nmleatherleague.com
SUMMARY:October General Meeting & Munch
DESCRIPTION:General Membership Meeting  – 6:00 – 6:45 pm \n\n\nHelp us get down to the business of running the organization. The team creates\, plans\, organizes and steps up to do the work that gets events rolling. It takes a kinky village! If you’d like to pitch in please join us. You don’t need to be a member of NMLL to attend general meetings. You just need to be willing to lend a hand. You DO need to be a member in order to vote. \n\nMonthly Munch – 6:45 – 8:30 pm \n\nDon’t miss our monthly munch on the 4th Thursday at 66 Diner. Free admittance\, but please support the hosting establishment and tip the waitstaff generously! We’ll be in the back room\, welcoming all in our community for a casual\, social evening. Come find out the latest news on possible events!
URL:https://nmleatherleague.com/event/october-general-meeting-munch/
LOCATION:66 Diner\, 1405 Central Avenue NE\, ABQ\, United States
ORGANIZER;CN="NMLL":MAILTO:nmllevents@gmail.com
END:VEVENT
END:VCALENDAR