BEGIN:VCALENDAR
VERSION:2.0
PRODID:-//New Mexico Leather League - ECPv6.15.20//NONSGML v1.0//EN
CALSCALE:GREGORIAN
METHOD:PUBLISH
X-ORIGINAL-URL:https://nmleatherleague.com
X-WR-CALDESC:Events for New Mexico Leather League
REFRESH-INTERVAL;VALUE=DURATION:PT1H
X-Robots-Tag:noindex
X-PUBLISHED-TTL:PT1H
BEGIN:VTIMEZONE
TZID:America/Denver
BEGIN:DAYLIGHT
TZOFFSETFROM:-0700
TZOFFSETTO:-0600
TZNAME:MDT
DTSTART:20250309T090000
END:DAYLIGHT
BEGIN:STANDARD
TZOFFSETFROM:-0600
TZOFFSETTO:-0700
TZNAME:MST
DTSTART:20251102T080000
END:STANDARD
BEGIN:DAYLIGHT
TZOFFSETFROM:-0700
TZOFFSETTO:-0600
TZNAME:MDT
DTSTART:20260308T090000
END:DAYLIGHT
BEGIN:STANDARD
TZOFFSETFROM:-0600
TZOFFSETTO:-0700
TZNAME:MST
DTSTART:20261101T080000
END:STANDARD
BEGIN:DAYLIGHT
TZOFFSETFROM:-0700
TZOFFSETTO:-0600
TZNAME:MDT
DTSTART:20270314T090000
END:DAYLIGHT
BEGIN:STANDARD
TZOFFSETFROM:-0600
TZOFFSETTO:-0700
TZNAME:MST
DTSTART:20271107T080000
END:STANDARD
END:VTIMEZONE
BEGIN:VEVENT
DTSTART;TZID=America/Denver:20260326T180000
DTEND;TZID=America/Denver:20260326T210000
DTSTAMP:20260423T175508
CREATED:20260318T215112Z
LAST-MODIFIED:20260318T215535Z
UID:15986-1774548000-1774558800@nmleatherleague.com
SUMMARY:NMLL General Meeting & Munch
DESCRIPTION:Thursday\, March 26\, 2026 at the 66 Diner \n6-7 pm General Meeting \n7-9 pm Social Munch \n 
URL:https://nmleatherleague.com/event/nmll-general-meeting-munch/
LOCATION:66 Diner\, 1405 Central Avenue NE\, ABQ\, United States
ATTACH;FMTTYPE=image/jpeg:https://nmleatherleague.com/wp-content/uploads/2026/03/PHOTO-2026-03-18-14-24-47.jpg
ORGANIZER;CN="NMLL":MAILTO:nmllevents@gmail.com
END:VEVENT
END:VCALENDAR