BEGIN:VCALENDAR
VERSION:2.0
PRODID:-//New Mexico Leather League - ECPv6.15.20//NONSGML v1.0//EN
CALSCALE:GREGORIAN
METHOD:PUBLISH
X-ORIGINAL-URL:https://nmleatherleague.com
X-WR-CALDESC:Events for New Mexico Leather League
REFRESH-INTERVAL;VALUE=DURATION:PT1H
X-Robots-Tag:noindex
X-PUBLISHED-TTL:PT1H
BEGIN:VTIMEZONE
TZID:America/Denver
BEGIN:DAYLIGHT
TZOFFSETFROM:-0700
TZOFFSETTO:-0600
TZNAME:MDT
DTSTART:20240310T090000
END:DAYLIGHT
BEGIN:STANDARD
TZOFFSETFROM:-0600
TZOFFSETTO:-0700
TZNAME:MST
DTSTART:20241103T080000
END:STANDARD
BEGIN:DAYLIGHT
TZOFFSETFROM:-0700
TZOFFSETTO:-0600
TZNAME:MDT
DTSTART:20250309T090000
END:DAYLIGHT
BEGIN:STANDARD
TZOFFSETFROM:-0600
TZOFFSETTO:-0700
TZNAME:MST
DTSTART:20251102T080000
END:STANDARD
BEGIN:DAYLIGHT
TZOFFSETFROM:-0700
TZOFFSETTO:-0600
TZNAME:MDT
DTSTART:20260308T090000
END:DAYLIGHT
BEGIN:STANDARD
TZOFFSETFROM:-0600
TZOFFSETTO:-0700
TZNAME:MST
DTSTART:20261101T080000
END:STANDARD
BEGIN:DAYLIGHT
TZOFFSETFROM:-0700
TZOFFSETTO:-0600
TZNAME:MDT
DTSTART:20270314T090000
END:DAYLIGHT
BEGIN:STANDARD
TZOFFSETFROM:-0600
TZOFFSETTO:-0700
TZNAME:MST
DTSTART:20271107T080000
END:STANDARD
END:VTIMEZONE
BEGIN:VEVENT
DTSTART;TZID=America/Denver:20260326T180000
DTEND;TZID=America/Denver:20260326T210000
DTSTAMP:20260423T094421
CREATED:20260318T215112Z
LAST-MODIFIED:20260318T215535Z
UID:15986-1774548000-1774558800@nmleatherleague.com
SUMMARY:NMLL General Meeting & Munch
DESCRIPTION:Thursday\, March 26\, 2026 at the 66 Diner \n6-7 pm General Meeting \n7-9 pm Social Munch \n 
URL:https://nmleatherleague.com/event/nmll-general-meeting-munch/
LOCATION:66 Diner\, 1405 Central Avenue NE\, ABQ\, United States
ATTACH;FMTTYPE=image/jpeg:https://nmleatherleague.com/wp-content/uploads/2026/03/PHOTO-2026-03-18-14-24-47.jpg
ORGANIZER;CN="NMLL":MAILTO:nmllevents@gmail.com
END:VEVENT
BEGIN:VEVENT
DTSTART;TZID=America/Denver:20260115T190000
DTEND;TZID=America/Denver:20260115T203000
DTSTAMP:20260423T094421
CREATED:20251212T213119Z
LAST-MODIFIED:20251212T225106Z
UID:15896-1768503600-1768509000@nmleatherleague.com
SUMMARY:NMLL 2026 Board Elections
DESCRIPTION:New Mexico Leather League  2026 Board of Directors Election  will be held Thursday\, January 15\, at 7 pm! \nJoin us via  Zoom\nus02web.zoom.us/j/6202562854\nMeeting ID: 620 256 2854   Passcode: 695050 \nThe Nominating Committee is seeking a slate of strong and engaged candidates. \nNMLL Members may run for any position. If you’d like to run\, please fill out the NOMINATING FORM. \nOnly members may run and vote in elections. If you are not a member\, you may apply by filling out the MEMBERSHIP FORM. \nNMLL members may vote by:\n– voting live on Zoom during the Election Meeting -or-\n– giving your proxy in writing to another NMLL member who is attending the Election Meeting. \nIf you would like more information\, or to speak with someone about running for office\, please contact us: NMLLNomComm@gmail.com.
URL:https://nmleatherleague.com/event/nmll-2026-board-elections/
LOCATION:Virtual
ORGANIZER;CN="NMLL":MAILTO:nmllevents@gmail.com
END:VEVENT
BEGIN:VEVENT
DTSTART;TZID=America/Denver:20251225T183000
DTEND;TZID=America/Denver:20251225T203000
DTSTAMP:20260423T094421
CREATED:20250509T193128Z
LAST-MODIFIED:20250509T193128Z
UID:14388-1766687400-1766694600@nmleatherleague.com
SUMMARY:No Munch in December!
DESCRIPTION:NO munch in December! Join us next month!
URL:https://nmleatherleague.com/event/no-munch-in-december-2/
END:VEVENT
BEGIN:VEVENT
DTSTART;TZID=America/Denver:20251211T190000
DTEND;TZID=America/Denver:20251211T203000
DTSTAMP:20260423T094421
CREATED:20250509T185941Z
LAST-MODIFIED:20250509T185941Z
UID:14376-1765479600-1765485000@nmleatherleague.com
SUMMARY:December General Meeting
DESCRIPTION:Help us get down to the business of running the organization. The team creates\, plans\, organizes and steps up to do the work that gets events rolling. It takes a kinky village! If you’d like to pitch in please join us.  Meeting via Zoom. \nZoom Link\nMeeting ID: 620 256 2854\nPasscode: 695050 \nYou don’t need to be a member of NMLL to attend general meetings. You just need to be willing to lend a hand. You DO need to be a member in order to vote.
URL:https://nmleatherleague.com/event/december-general-meeting/
LOCATION:Virtual
ORGANIZER;CN="NMLL":MAILTO:nmllevents@gmail.com
END:VEVENT
BEGIN:VEVENT
DTSTART;TZID=America/Denver:20251127T183000
DTEND;TZID=America/Denver:20251127T203000
DTSTAMP:20260423T094421
CREATED:20250509T192052Z
LAST-MODIFIED:20250509T192052Z
UID:14384-1764268200-1764275400@nmleatherleague.com
SUMMARY:No Munch in November!
DESCRIPTION:No Munch this month!
URL:https://nmleatherleague.com/event/no-munch-in-november/
END:VEVENT
BEGIN:VEVENT
DTSTART;TZID=America/Denver:20251102T130000
DTEND;TZID=America/Denver:20251102T140000
DTSTAMP:20260423T094421
CREATED:20250929T014230Z
LAST-MODIFIED:20250930T050111Z
UID:15551-1762088400-1762092000@nmleatherleague.com
SUMMARY:Closing Session
DESCRIPTION:**Raffle Prize Drawings!** \nCome together with Leather League for final farewells and a moment to appreciate everything this convention had to offer. All in the relaxing Garden Room. The Board will extend its thanks to all who attended and will be ready to hear any final thoughts. A good place to say goodbye and ask for the contact information of the new friends and fellow travelers met over the weekend if you have yet to do so. A calming way to end an exciting event.
URL:https://nmleatherleague.com/event/closing-session/
LOCATION:Garden Room
ORGANIZER;CN="NMLL":MAILTO:nmllevents@gmail.com
END:VEVENT
BEGIN:VEVENT
DTSTART;TZID=America/Denver:20251102T113000
DTEND;TZID=America/Denver:20251102T124500
DTSTAMP:20260423T094421
CREATED:20250827T000031Z
LAST-MODIFIED:20250827T000031Z
UID:15150-1762083000-1762087500@nmleatherleague.com
SUMMARY:The Cane Connection: From Sensual to Stern (Part 2)
DESCRIPTION:Music lover? Come see gloryus demonstrate the natural versatility of canes in rhythmic scenes. She’ll show you how to use music to set the mood\, and your favorite cane to carry it. At the beginning\, she’ll cover basic cane knowledge with an emphasis on safety and provide help you find your approach to canes. Her demo on a willing bottom is not to be missed!
URL:https://nmleatherleague.com/event/the-cane-connection-from-sensual-to-stern-part-2/
LOCATION:Arizona Room
CATEGORIES:Leather Fiesta 2025
ORGANIZER;CN="NMLL":MAILTO:nmllevents@gmail.com
END:VEVENT
BEGIN:VEVENT
DTSTART;TZID=America/Denver:20251102T113000
DTEND;TZID=America/Denver:20251102T124500
DTSTAMP:20260423T094421
CREATED:20250824T050643Z
LAST-MODIFIED:20250826T023224Z
UID:15072-1762083000-1762087500@nmleatherleague.com
SUMMARY:Insidious Ignominy: The Art of Covert Humiliation and Degradation
DESCRIPTION:Insidious Ignominy is a 200-level class designed for those with prior experience in kink\, who are ready to explore the darker\, more nuanced aspects of humiliation and degradation. This class delves into the complex allure of these power dynamics\, focusing on the thrilling possibilities of covert public and semi-public scenes. We’ll discuss how to navigate these intense experiences within the bounds of legality and ethical consent\, ensuring your play remains both safe and consensually grounded. This class is NOT for beginners; a solid foundation in kink practices is essential. 
URL:https://nmleatherleague.com/event/insidious-ignominy-the-art-of-covert-humiliation-and-degradation/
LOCATION:Garden Room
CATEGORIES:Leather Fiesta 2025
ORGANIZER;CN="NMLL":MAILTO:nmllevents@gmail.com
END:VEVENT
BEGIN:VEVENT
DTSTART;TZID=America/Denver:20251102T113000
DTEND;TZID=America/Denver:20251102T124500
DTSTAMP:20260423T094421
CREATED:20250822T054404Z
LAST-MODIFIED:20251006T041353Z
UID:14960-1762083000-1762087500@nmleatherleague.com
SUMMARY:Homecraft BDSM: Toys Made from Household Items
DESCRIPTION:An introduction to hand made bedroom toys\, using household objects! \nWant to spice up things in the bedroom\, but don’t have any implements? If you have some string\, a piece of wood\, and some imagination\, you might be set! Learn how to take common things found around your home\, and create some fun gadgets on a budget! \nLearn from Dr. Xantavia\, as they discuss safety\, do’s and don’ts and the basic skills needed to make home toys.
URL:https://nmleatherleague.com/event/homecraft-bdsm-toys-made-from-household-items/
LOCATION:Parlor C/D
CATEGORIES:Leather Fiesta 2025
ORGANIZER;CN="NMLL":MAILTO:nmllevents@gmail.com
END:VEVENT
BEGIN:VEVENT
DTSTART;TZID=America/Denver:20251102T100000
DTEND;TZID=America/Denver:20251102T231500
DTSTAMP:20260423T094421
CREATED:20250829T053827Z
LAST-MODIFIED:20250901T042757Z
UID:15248-1762077600-1762125300@nmleatherleague.com
SUMMARY:Age Play 201: Gender and Age Play
DESCRIPTION:Age Play can be an amazing tool to explore gender roles and personal gender identity. Many transgender and gender non-conforming folks have used age play to relive their childhood as their true gender. Men have the opportunity to be teenage drama queens and there are women who enjoy being Daddies. In this 200-level lecture and discussion\, join Freydís to learn more about exploring gender and gender roleplay within age play.
URL:https://nmleatherleague.com/event/age-play-201-gender-and-age-play/
LOCATION:Parlor C/D
CATEGORIES:Leather Fiesta 2025
ORGANIZER;CN="NMLL":MAILTO:nmllevents@gmail.com
END:VEVENT
BEGIN:VEVENT
DTSTART;TZID=America/Denver:20251102T100000
DTEND;TZID=America/Denver:20251102T111500
DTSTAMP:20260423T094421
CREATED:20250829T054009Z
LAST-MODIFIED:20251006T043334Z
UID:15250-1762077600-1762082100@nmleatherleague.com
SUMMARY:Navigating Decision Fatigue for Your D-types: Domination with Care
DESCRIPTION:For D-types\, always holding the power to decide can lead to an uneasy\, imbalanced\, or even overwhelming power exchange dynamic. Explore with me the idea that M/s\, D/s\, P/o and other power exchange dynamics can be steadied on both sides of the slash by establishing protocols that allow s-types to be held within the D-type’s direction\, while also taking care of the D-type when they are decision-saturated.
URL:https://nmleatherleague.com/event/navigating-decision-fatigue-for-your-d-types-domination-with-care/
LOCATION:Garden Room
CATEGORIES:Leather Fiesta 2025
ORGANIZER;CN="NMLL":MAILTO:nmllevents@gmail.com
END:VEVENT
BEGIN:VEVENT
DTSTART;TZID=America/Denver:20251102T100000
DTEND;TZID=America/Denver:20251102T111500
DTSTAMP:20260423T094421
CREATED:20250826T235857Z
LAST-MODIFIED:20250829T052945Z
UID:15148-1762077600-1762082100@nmleatherleague.com
SUMMARY:The Cane Connection: From Sensual to Stern (Part 1)
DESCRIPTION:Music lover? Come see gloryus demonstrate the natural versatility of canes in rhythmic scenes. She’ll show you how to use music to set the mood\, and your favorite cane to carry it. At the beginning\, she’ll cover basic cane knowledge with an emphasis on safety and provide help you find your approach to canes. Her demo on a willing bottom is not to be missed!
URL:https://nmleatherleague.com/event/the-cane-connection-from-sensual-to-stern-part-1/
LOCATION:Arizona Room
CATEGORIES:Leather Fiesta 2025
ORGANIZER;CN="NMLL":MAILTO:nmllevents@gmail.com
END:VEVENT
BEGIN:VEVENT
DTSTART;TZID=America/Denver:20251101T210000
DTEND;TZID=America/Denver:20251102T010000
DTSTAMP:20260423T094421
CREATED:20250930T224156Z
LAST-MODIFIED:20250930T224258Z
UID:15622-1762030800-1762045200@nmleatherleague.com
SUMMARY:Dungeon Party!
DESCRIPTION:Open Play. Make sure you have read and understood the Dungeon Rules!
URL:https://nmleatherleague.com/event/dungeon-party-2/
LOCATION:Dungeon (NM Ballroom)
ORGANIZER;CN="NMLL":MAILTO:nmllevents@gmail.com
END:VEVENT
BEGIN:VEVENT
DTSTART;TZID=America/Denver:20251101T203000
DTEND;TZID=America/Denver:20251101T210000
DTSTAMP:20260423T094421
CREATED:20251023T052822Z
LAST-MODIFIED:20251023T052822Z
UID:15782-1762029000-1762030800@nmleatherleague.com
SUMMARY:C&J Handfasting
DESCRIPTION:More info soon!
URL:https://nmleatherleague.com/event/cj-handfasting/
LOCATION:Dungeon (NM Ballroom)
END:VEVENT
BEGIN:VEVENT
DTSTART;TZID=America/Denver:20251101T200000
DTEND;TZID=America/Denver:20251101T230000
DTSTAMP:20260423T094421
CREATED:20251025T010648Z
LAST-MODIFIED:20251025T011129Z
UID:15798-1762027200-1762038000@nmleatherleague.com
SUMMARY:Event Photography
DESCRIPTION:Ribbons & Shadows Boudoir Photography \nWhere empowerment meets sensuality. \nRibbons & Shadows Boudoir offers intimate boudoir\, couples\, and kink sessions that celebrate confidence\, connection\, and desire in all its forms. Every session is designed to help you feel powerful\, seen\, and unapologetically yourself. Before she was behind the camera\, Ribbons was a kink model—her first shoot captured not just rope and form\, but trust\, play\, and vulnerability. That experience of being fully seen changed everything. When people started asking\, “Do you photograph boudoir?” Ribbons said yes—and it clicked immediately. It felt like her first kink event. Like home. As a proud member of the kink and poly communities for over a decade\, Ribbons has built a safe\, inclusive space for every body\, every story\, and every side of you—soft\, wild\, and everything in between. \nCatch a glimpse of the experience: Ribbons will be offering short photographic sessions in the Leather Fiesta Dungeon on November 1 from 9–11 p.m. — just a taste of what a full session with her feels like. When you see your images\, you might just say what so many of Ribbons’ clients do: “Oh my god. Is that me?” \nYes. Yes\, it is. \nEvent pricing for Leather Fiesta attendees HERE!
URL:https://nmleatherleague.com/event/event-photography-2/
LOCATION:Parlor C/D
ORGANIZER;CN="NMLL":MAILTO:nmllevents@gmail.com
END:VEVENT
BEGIN:VEVENT
DTSTART;TZID=America/Denver:20251101T200000
DTEND;TZID=America/Denver:20251101T230000
DTSTAMP:20260423T094421
CREATED:20251018T021727Z
LAST-MODIFIED:20251018T022032Z
UID:15742-1762027200-1762038000@nmleatherleague.com
SUMMARY:Event Photography
DESCRIPTION:Content is protected.
URL:https://nmleatherleague.com/event/event-photography/
LOCATION:Parlor C/D
CATEGORIES:Leather Fiesta 2025
END:VEVENT
BEGIN:VEVENT
DTSTART;TZID=America/Denver:20251101T200000
DTEND;TZID=America/Denver:20251101T210000
DTSTAMP:20260423T094421
CREATED:20250929T012119Z
LAST-MODIFIED:20250929T012147Z
UID:15545-1762027200-1762030800@nmleatherleague.com
SUMMARY:Volunteers\, Presenters\, Sponsors Hour in the Dungeon
DESCRIPTION:A quieter\, less hectic hour set aside each night for those who give so much to make Leather Fiesta awesome!
URL:https://nmleatherleague.com/event/volunteers-hour-in-the-dungeon-2/
LOCATION:New Mexico Ballroom
ORGANIZER;CN="NMLL":MAILTO:nmllevents@gmail.com
END:VEVENT
BEGIN:VEVENT
DTSTART;TZID=America/Denver:20251101T200000
DTEND;TZID=America/Denver:20251101T210000
DTSTAMP:20260423T094421
CREATED:20250929T005129Z
LAST-MODIFIED:20250929T005129Z
UID:15534-1762027200-1762030800@nmleatherleague.com
SUMMARY:Play Safe Social
DESCRIPTION:Are you…\n…unfamiliar with pickup play?\n…looking to improve your negotiation skills?\n…looking for a like-minded partner to negotiate a scene? \nThis gathering is for YOU!\nWe’ll set up tables to help you find partners based on your interests\, like rope\, bondage\, impact — or even psychological kinks.\nWe’ll also provide handouts and experienced hosts to facilitate negotiations for pick-up play\, helping YOU to negotiate safer and more enjoyable dungeon scenes!
URL:https://nmleatherleague.com/event/play-safe-social-2/
LOCATION:Garden Room
ORGANIZER;CN="NMLL":MAILTO:nmllevents@gmail.com
END:VEVENT
BEGIN:VEVENT
DTSTART;TZID=America/Denver:20251101T190000
DTEND;TZID=America/Denver:20251101T220000
DTSTAMP:20260423T094421
CREATED:20251023T052716Z
LAST-MODIFIED:20251023T052716Z
UID:15780-1762023600-1762034400@nmleatherleague.com
SUMMARY:Bootblacking at the Cigar Party!
DESCRIPTION:Visit our Leather Fiesta Bootblacks in or near the Garden Room on Friday and Saturday. Bootblacks help keep us looking great in our gear\, operating with a passion for leather care and community service. Please be sure to thank your bootblack and tip generously. Your tips help cover a portion of the cost of supplies used to care for items and some of the cost bootblacks incur to travel to cons.
URL:https://nmleatherleague.com/event/bootblacking-at-the-cigar-party/
LOCATION:Outside – Under the Tent!
CATEGORIES:Leather Fiesta 2025
ORGANIZER;CN="NMLL":MAILTO:nmllevents@gmail.com
END:VEVENT
BEGIN:VEVENT
DTSTART;TZID=America/Denver:20251101T190000
DTEND;TZID=America/Denver:20251101T220000
DTSTAMP:20260423T094421
CREATED:20250930T220652Z
LAST-MODIFIED:20250930T220858Z
UID:15604-1762023600-1762034400@nmleatherleague.com
SUMMARY:Cigar Party!
DESCRIPTION:Are you ready for an unforgettable evening filled with camaraderie\, celebration and\, of course\, exceptional cigars? The upcoming cigar party is where you want to be! Here’s why you shouldn’t miss it: \nConnect with Fellow Cigar Enthusiasts: This is a fantastic opportunity to meet other cigar lovers and make new friends. \nIndulge in an Exquisite Pastime: Experience a curated selection of cigars and treat yourself to something special. \nUnwind in a Relaxed Atmosphere: Escape the hustle and bustle of the con. Enjoy the cozy ambiance and great company! \nLearn from the Best: Join Jayson and Tami to gain insider tips on how to truly appreciate and enjoy your cigars – in ways you may never have imagined. \nDon’t miss out on this fantastic opportunity to celebrate the kinky art of cigars! We can’t wait to see you there! 🎉🔥
URL:https://nmleatherleague.com/event/cigar-party-2/
LOCATION:Outside – Under the Tent!
ORGANIZER;CN="NMLL":MAILTO:nmllevents@gmail.com
END:VEVENT
BEGIN:VEVENT
DTSTART;TZID=America/Denver:20251101T183000
DTEND;TZID=America/Denver:20251102T003000
DTSTAMP:20260423T094421
CREATED:20250930T214813Z
LAST-MODIFIED:20250930T214813Z
UID:15594-1762021800-1762043400@nmleatherleague.com
SUMMARY:Bag Check
DESCRIPTION:Don’t want to carry your toy bag around at this evenings festivities? Check it in with us until needed.
URL:https://nmleatherleague.com/event/bag-check-2/
LOCATION:Parlor C/D
ORGANIZER;CN="NMLL":MAILTO:nmllevents@gmail.com
END:VEVENT
BEGIN:VEVENT
DTSTART;TZID=America/Denver:20251101T180000
DTEND;TZID=America/Denver:20251101T190000
DTSTAMP:20260423T094421
CREATED:20250829T050530Z
LAST-MODIFIED:20250829T050530Z
UID:15217-1762020000-1762023600@nmleatherleague.com
SUMMARY:Recovery in the Lifestyle
DESCRIPTION:A Recovery In The Lifestyle (RITL) meeting is a fellowship-based support group for individuals in any kind of recovery\, particularly those within the BDSM and kink communities.
URL:https://nmleatherleague.com/event/recovery-in-the-lifestyle/
LOCATION:Arizona Room
CATEGORIES:Leather Fiesta 2025
ORGANIZER;CN="NMLL":MAILTO:nmllevents@gmail.com
END:VEVENT
BEGIN:VEVENT
DTSTART;TZID=America/Denver:20251101T160000
DTEND;TZID=America/Denver:20251101T180000
DTSTAMP:20260423T094421
CREATED:20250930T223856Z
LAST-MODIFIED:20251006T042558Z
UID:15620-1762012800-1762020000@nmleatherleague.com
SUMMARY:Bound for Greatness: Rope Games
DESCRIPTION:Competition-meets-fun in this structured-yet-silly Rope Games specially designed for established tying pairs — and the voyeurs who love them! So grab your rope bag\, safety shears\, and willing bottom (brats count\, too!) and join us at Bound for Greatness: Rope Games! \nEach game and its objective will be described at the event. Expect laughs…and prizes! \nBound for Greatness will run concurrently with Tastings in the Dungeon.
URL:https://nmleatherleague.com/event/rope-jam/
LOCATION:Dungeon (NM Ballroom)
END:VEVENT
BEGIN:VEVENT
DTSTART;TZID=America/Denver:20251101T160000
DTEND;TZID=America/Denver:20251101T180000
DTSTAMP:20260423T094421
CREATED:20250829T050130Z
LAST-MODIFIED:20251006T043205Z
UID:15214-1762012800-1762020000@nmleatherleague.com
SUMMARY:Tastings: Not Just for Bottoms!
DESCRIPTION:Tastings are baaaaack\, bigger and better than ever! After Saturday\nclasses\, please join us in the Dungeon. 14+ experienced Tastings Tops will provide bite-\nsized kink experiences\, typically lasting a few minutes per person\, including: \n\nSensory deprivation\n(Sadistic) tickling\nFlogging\nThuddy impact (various items)\nBoot play: Trampling\, Kicking or Deep Pressure Standing\nWhips\nCanes\nElectro play\nWax\nIndustrial stapling\nNeedles\nArtistic cutting w/ flash designs\n…and more!\n\nWhy attend Tastings? \n\nif you’re new in general – or new to a particular kink\nif you’re experienced and want to try something you already love (or hate!)\nif you’re a top who wants to observe or experience a kink to expand their knowledge\nand learned empathy\nif you’re a voyeur or generally curious!\n\nNote: Specific tastings offered could change (without notice) if top availability changes.
URL:https://nmleatherleague.com/event/tastings/
LOCATION:Dungeon (NM Ballroom)
CATEGORIES:Leather Fiesta 2025
ORGANIZER;CN="NMLL":MAILTO:nmllevents@gmail.com
END:VEVENT
BEGIN:VEVENT
DTSTART;TZID=America/Denver:20251101T160000
DTEND;TZID=America/Denver:20251101T173000
DTSTAMP:20260423T094421
CREATED:20250823T011703Z
LAST-MODIFIED:20251006T041247Z
UID:14991-1762012800-1762018200@nmleatherleague.com
SUMMARY:Kinky Grappling & Wrestling Lab
DESCRIPTION:Dr Savage will host an “Afternoon Grappling Pit” to practice what you’ve learned. This is open mat time for you to try out under supervision some of the kinky moves they learned in Kinky Grappling and Wrestling. Maybe even get down to some real erotic or competitive wrestling matches if you’re ready for it. \n\n\nNote: This class will offer floor mats; please avoid wearing or remove items that could damage the mats (jewelry\, buckles\, etc.).
URL:https://nmleatherleague.com/event/afternoon-grappling-pit/
LOCATION:Arizona Room
CATEGORIES:Leather Fiesta 2025
ORGANIZER;CN="NMLL":MAILTO:nmllevents@gmail.com
END:VEVENT
BEGIN:VEVENT
DTSTART;TZID=America/Denver:20251101T141500
DTEND;TZID=America/Denver:20251101T153000
DTSTAMP:20260423T094421
CREATED:20251006T035853Z
LAST-MODIFIED:20251025T000313Z
UID:15651-1762006500-1762011000@nmleatherleague.com
SUMMARY:Rope Bondage for Impact Scenes
DESCRIPTION:In this tie-along class students will learn two popular patterns (peach tie and legs up hug) for combining bondage with impact or other play types. Pillow for the bottom and impact toys strongly suggested. Students should be comfortable with a non-collapsing single column structure and bring 3 to 4 25-30-ft sections of 5-8mm diameter rope in a material of their choice.
URL:https://nmleatherleague.com/event/bondage-for-impact-scenes/
LOCATION:Dungeon (NM Ballroom)
CATEGORIES:Leather Fiesta 2025
ORGANIZER;CN="NMLL":MAILTO:nmllevents@gmail.com
END:VEVENT
BEGIN:VEVENT
DTSTART;TZID=America/Denver:20251101T141500
DTEND;TZID=America/Denver:20251101T153000
DTSTAMP:20260423T094421
CREATED:20250829T060443Z
LAST-MODIFIED:20251006T042431Z
UID:15253-1762006500-1762011000@nmleatherleague.com
SUMMARY:This Exchange of Vulnerability and Control
DESCRIPTION:Angel Marie will share parts of her personal journey to illustrate myths and realities about multi-relationship exchanges\, and to provide perspectives on what it means to love in such ways. This class will go beyond simply listing different relationship structures such as parallel\, kitchen table\, and ethical non-monogamy—Angel Marie delves into how to be authentic in a world that demands limits and labels. \nWe want to be loved\, but also to recognize and set boundaries in our relationships. With a better understanding of ourselves\, we discuss shame\, veto-powers\, unicorns\, communication styles\, jealousy—and how to create space for what we really want.
URL:https://nmleatherleague.com/event/this-exchange-of-vulnerability-and-control/
LOCATION:Parlor C/D
CATEGORIES:Leather Fiesta 2025
ORGANIZER;CN="NMLL":MAILTO:nmllevents@gmail.com
END:VEVENT
BEGIN:VEVENT
DTSTART;TZID=America/Denver:20251101T141500
DTEND;TZID=America/Denver:20251101T153000
DTSTAMP:20260423T094421
CREATED:20250829T053621Z
LAST-MODIFIED:20250901T042716Z
UID:15246-1762006500-1762011000@nmleatherleague.com
SUMMARY:How to Take More Pain When Disabled
DESCRIPTION:Freydís is a disabled Bottom – they have Ehlers-Danlos syndrome (EDS); neurocardiogenic syncope and orthostasis; palpitations; and chronic lumbago and sacroiliitis from repeated traumatic injury. In this combined lecture and discussion from a disabled Bottom’s perspective\, we’ll look at: techniques for pain management and pain processing; different types of pain; risks specific to disabled Bottoms; and negotiations with Tops to help facilitate the most fulfilling scene possible.
URL:https://nmleatherleague.com/event/how-to-take-more-pain-when-disabled/
LOCATION:Parlor G/H
CATEGORIES:Leather Fiesta 2025
ORGANIZER;CN="NMLL":MAILTO:nmllevents@gmail.com
END:VEVENT
BEGIN:VEVENT
DTSTART;TZID=America/Denver:20251101T141500
DTEND;TZID=America/Denver:20251101T153000
DTSTAMP:20260423T094421
CREATED:20250826T235127Z
LAST-MODIFIED:20251006T042000Z
UID:15146-1762006500-1762011000@nmleatherleague.com
SUMMARY:Erotic Abstraction - Make Your Own Rorschach
DESCRIPTION:Note: This class is limited to 12 participants—first come\, first served. The sign-up sheet for this class will be posted at or near registration at 10am on Saturday. \nAccessibility notice: This classroom is downstairs. An elevator is available. The sign-up sheet will include instructions to access the elevator. \nWe will use color to create erotic imagery from abstract beginnings. Random abstract outlines will be provided along with a moderated palate of colors\, allowing free expression of the painter.
URL:https://nmleatherleague.com/event/erotic-abstraction-make-your-own-rorschach-2/
LOCATION:Rio Grande Ballroom
CATEGORIES:Leather Fiesta 2025
ORGANIZER;CN="NMLL":MAILTO:nmllevents@gmail.com
END:VEVENT
BEGIN:VEVENT
DTSTART;TZID=America/Denver:20251101T141500
DTEND;TZID=America/Denver:20251101T153000
DTSTAMP:20260423T094421
CREATED:20250822T055825Z
LAST-MODIFIED:20251006T041034Z
UID:14975-1762006500-1762011000@nmleatherleague.com
SUMMARY:Level 2: Kinky Grappling & Wrestling
DESCRIPTION:This class builds on the introduction and basic skills from the Intro to Kinky Grappling and Wrestling class. It allows learners to develop some of the skills needed either to win a competitive match or to maximize the erotic thrills that can come from a great wrestling match. Two to three specific techniques for takedowns\, scoring submissions and/or controlling an opponent will be developed at a more technical level. Specific scene types will also be explored in some detail. \nBy the end of this class\, learners will be able to set up and negotiate a wrestling scene and to demonstrate specific wrestling maneuvers and submission holds. \n\n\nNote: This class will offer floor mats; please avoid wearing or remove items that could damage the mats (jewelry\, buckles\, etc.).
URL:https://nmleatherleague.com/event/level-2-kinky-grappling-wrestling/
LOCATION:Arizona Room
CATEGORIES:Leather Fiesta 2025
ORGANIZER;CN="NMLL":MAILTO:nmllevents@gmail.com
END:VEVENT
END:VCALENDAR