BEGIN:VCALENDAR
VERSION:2.0
PRODID:-//New Mexico Leather League - ECPv6.15.20//NONSGML v1.0//EN
CALSCALE:GREGORIAN
METHOD:PUBLISH
X-ORIGINAL-URL:https://nmleatherleague.com
X-WR-CALDESC:Events for New Mexico Leather League
REFRESH-INTERVAL;VALUE=DURATION:PT1H
X-Robots-Tag:noindex
X-PUBLISHED-TTL:PT1H
BEGIN:VTIMEZONE
TZID:America/Denver
BEGIN:DAYLIGHT
TZOFFSETFROM:-0700
TZOFFSETTO:-0600
TZNAME:MDT
DTSTART:20240310T090000
END:DAYLIGHT
BEGIN:STANDARD
TZOFFSETFROM:-0600
TZOFFSETTO:-0700
TZNAME:MST
DTSTART:20241103T080000
END:STANDARD
BEGIN:DAYLIGHT
TZOFFSETFROM:-0700
TZOFFSETTO:-0600
TZNAME:MDT
DTSTART:20250309T090000
END:DAYLIGHT
BEGIN:STANDARD
TZOFFSETFROM:-0600
TZOFFSETTO:-0700
TZNAME:MST
DTSTART:20251102T080000
END:STANDARD
BEGIN:DAYLIGHT
TZOFFSETFROM:-0700
TZOFFSETTO:-0600
TZNAME:MDT
DTSTART:20260308T090000
END:DAYLIGHT
BEGIN:STANDARD
TZOFFSETFROM:-0600
TZOFFSETTO:-0700
TZNAME:MST
DTSTART:20261101T080000
END:STANDARD
END:VTIMEZONE
BEGIN:VEVENT
DTSTART;TZID=America/Denver:20251031T020000
DTEND;TZID=America/Denver:20251103T015959
DTSTAMP:20260423T224521
CREATED:20250509T194202Z
LAST-MODIFIED:20250822T060705Z
UID:14390-1761876000-1762135199@nmleatherleague.com
SUMMARY:Leather Fiesta 2025
DESCRIPTION:Three days of classes\, socials and play parties! Don’t miss it!
URL:https://nmleatherleague.com/event/save-the-dates/
CATEGORIES:Leather Fiesta 2025
END:VEVENT
BEGIN:VEVENT
DTSTART;TZID=America/Denver:20251102T100000
DTEND;TZID=America/Denver:20251102T111500
DTSTAMP:20260423T224521
CREATED:20250826T235857Z
LAST-MODIFIED:20250829T052945Z
UID:15148-1762077600-1762082100@nmleatherleague.com
SUMMARY:The Cane Connection: From Sensual to Stern (Part 1)
DESCRIPTION:Music lover? Come see gloryus demonstrate the natural versatility of canes in rhythmic scenes. She’ll show you how to use music to set the mood\, and your favorite cane to carry it. At the beginning\, she’ll cover basic cane knowledge with an emphasis on safety and provide help you find your approach to canes. Her demo on a willing bottom is not to be missed!
URL:https://nmleatherleague.com/event/the-cane-connection-from-sensual-to-stern-part-1/
LOCATION:Arizona Room
CATEGORIES:Leather Fiesta 2025
ORGANIZER;CN="NMLL":MAILTO:nmllevents@gmail.com
END:VEVENT
BEGIN:VEVENT
DTSTART;TZID=America/Denver:20251102T100000
DTEND;TZID=America/Denver:20251102T111500
DTSTAMP:20260423T224521
CREATED:20250829T054009Z
LAST-MODIFIED:20251006T043334Z
UID:15250-1762077600-1762082100@nmleatherleague.com
SUMMARY:Navigating Decision Fatigue for Your D-types: Domination with Care
DESCRIPTION:For D-types\, always holding the power to decide can lead to an uneasy\, imbalanced\, or even overwhelming power exchange dynamic. Explore with me the idea that M/s\, D/s\, P/o and other power exchange dynamics can be steadied on both sides of the slash by establishing protocols that allow s-types to be held within the D-type’s direction\, while also taking care of the D-type when they are decision-saturated.
URL:https://nmleatherleague.com/event/navigating-decision-fatigue-for-your-d-types-domination-with-care/
LOCATION:Garden Room
CATEGORIES:Leather Fiesta 2025
ORGANIZER;CN="NMLL":MAILTO:nmllevents@gmail.com
END:VEVENT
BEGIN:VEVENT
DTSTART;TZID=America/Denver:20251102T100000
DTEND;TZID=America/Denver:20251102T231500
DTSTAMP:20260423T224521
CREATED:20250829T053827Z
LAST-MODIFIED:20250901T042757Z
UID:15248-1762077600-1762125300@nmleatherleague.com
SUMMARY:Age Play 201: Gender and Age Play
DESCRIPTION:Age Play can be an amazing tool to explore gender roles and personal gender identity. Many transgender and gender non-conforming folks have used age play to relive their childhood as their true gender. Men have the opportunity to be teenage drama queens and there are women who enjoy being Daddies. In this 200-level lecture and discussion\, join Freydís to learn more about exploring gender and gender roleplay within age play.
URL:https://nmleatherleague.com/event/age-play-201-gender-and-age-play/
LOCATION:Parlor C/D
CATEGORIES:Leather Fiesta 2025
ORGANIZER;CN="NMLL":MAILTO:nmllevents@gmail.com
END:VEVENT
BEGIN:VEVENT
DTSTART;TZID=America/Denver:20251102T113000
DTEND;TZID=America/Denver:20251102T124500
DTSTAMP:20260423T224521
CREATED:20250822T054404Z
LAST-MODIFIED:20251006T041353Z
UID:14960-1762083000-1762087500@nmleatherleague.com
SUMMARY:Homecraft BDSM: Toys Made from Household Items
DESCRIPTION:An introduction to hand made bedroom toys\, using household objects! \nWant to spice up things in the bedroom\, but don’t have any implements? If you have some string\, a piece of wood\, and some imagination\, you might be set! Learn how to take common things found around your home\, and create some fun gadgets on a budget! \nLearn from Dr. Xantavia\, as they discuss safety\, do’s and don’ts and the basic skills needed to make home toys.
URL:https://nmleatherleague.com/event/homecraft-bdsm-toys-made-from-household-items/
LOCATION:Parlor C/D
CATEGORIES:Leather Fiesta 2025
ORGANIZER;CN="NMLL":MAILTO:nmllevents@gmail.com
END:VEVENT
BEGIN:VEVENT
DTSTART;TZID=America/Denver:20251102T113000
DTEND;TZID=America/Denver:20251102T124500
DTSTAMP:20260423T224521
CREATED:20250824T050643Z
LAST-MODIFIED:20250826T023224Z
UID:15072-1762083000-1762087500@nmleatherleague.com
SUMMARY:Insidious Ignominy: The Art of Covert Humiliation and Degradation
DESCRIPTION:Insidious Ignominy is a 200-level class designed for those with prior experience in kink\, who are ready to explore the darker\, more nuanced aspects of humiliation and degradation. This class delves into the complex allure of these power dynamics\, focusing on the thrilling possibilities of covert public and semi-public scenes. We’ll discuss how to navigate these intense experiences within the bounds of legality and ethical consent\, ensuring your play remains both safe and consensually grounded. This class is NOT for beginners; a solid foundation in kink practices is essential. 
URL:https://nmleatherleague.com/event/insidious-ignominy-the-art-of-covert-humiliation-and-degradation/
LOCATION:Garden Room
CATEGORIES:Leather Fiesta 2025
ORGANIZER;CN="NMLL":MAILTO:nmllevents@gmail.com
END:VEVENT
BEGIN:VEVENT
DTSTART;TZID=America/Denver:20251102T113000
DTEND;TZID=America/Denver:20251102T124500
DTSTAMP:20260423T224521
CREATED:20250827T000031Z
LAST-MODIFIED:20250827T000031Z
UID:15150-1762083000-1762087500@nmleatherleague.com
SUMMARY:The Cane Connection: From Sensual to Stern (Part 2)
DESCRIPTION:Music lover? Come see gloryus demonstrate the natural versatility of canes in rhythmic scenes. She’ll show you how to use music to set the mood\, and your favorite cane to carry it. At the beginning\, she’ll cover basic cane knowledge with an emphasis on safety and provide help you find your approach to canes. Her demo on a willing bottom is not to be missed!
URL:https://nmleatherleague.com/event/the-cane-connection-from-sensual-to-stern-part-2/
LOCATION:Arizona Room
CATEGORIES:Leather Fiesta 2025
ORGANIZER;CN="NMLL":MAILTO:nmllevents@gmail.com
END:VEVENT
END:VCALENDAR